BEGIN:VCALENDAR
VERSION:2.0
PRODID:-//Black Baby Books - Black Children&#039;s Book Characters - ECPv6.15.20//NONSGML v1.0//EN
CALSCALE:GREGORIAN
METHOD:PUBLISH
X-WR-CALNAME:Black Baby Books - Black Children&#039;s Book Characters
X-ORIGINAL-URL:https://blackbabybooks.com
X-WR-CALDESC:Events for Black Baby Books - Black Children&#039;s Book Characters
REFRESH-INTERVAL;VALUE=DURATION:PT1H
X-Robots-Tag:noindex
X-PUBLISHED-TTL:PT1H
BEGIN:VTIMEZONE
TZID:America/Phoenix
BEGIN:STANDARD
TZOFFSETFROM:-0700
TZOFFSETTO:-0700
TZNAME:MST
DTSTART:20250101T000000
END:STANDARD
END:VTIMEZONE
BEGIN:VEVENT
DTSTART;TZID=America/Phoenix:20260301T120000
DTEND;TZID=America/Phoenix:20260301T150000
DTSTAMP:20260420T011827
CREATED:20260127T023832Z
LAST-MODIFIED:20260127T023832Z
UID:10002615-1772366400-1772377200@blackbabybooks.com
SUMMARY:Celebrating Black Children's Book Week
DESCRIPTION:Celebrating Black Children’s Book Week Returns to Phoenix for Its Second Annual CelebrationFebruary 22 – March 1\, 2026 | Phoenix\, Arizona \nPhoenix\, AZ — The power of stories\, culture\, and community will take center stage as Celebrating Black Children’s Book Week returns to Phoenix for its second annual celebration\, running February 22 through March 1\, 2026. This week-long community event is dedicated to uplifting Black children’s literature\, amplifying diverse voices\, and fostering a lifelong love of reading among young people. \nThis year’s celebration will feature 13 Black children’s book authors\, offering families the opportunity to experience live book readings\, author meet-and-greets\, and interactive literacy activities designed especially for children. The event creates a welcoming space where kids can see themselves reflected in stories and where parents\, educators\, and community members can connect around the importance of representation in literature. \nIn addition to literary programming\, the event will include family-friendly social experiences\, such as a mobile barber\, reinforcing the event’s mission to blend literacy\, culture\, and community wellness in meaningful and engaging ways. \nThe 2026 celebration proudly partners with The Great Arizona Puppet Theater\, bringing imaginative storytelling to life through puppetry\, and Project Humanity\, whose involvement underscores the event’s commitment to empowerment\, education\, and community connection. \n“Celebrating Black Children’s Book Week is more than an event—it’s a movement\,” organizers shared. “By highlighting Black authors and stories\, we’re planting seeds of confidence\, curiosity\, and creativity in our children while strengthening community bonds.” \nThe event is open to families\, educators\, caregivers\, and community supporters across the Phoenix metro area. Additional event details\, schedules\, and locations will be announced closer to the event dates. \nPlease click the sway page link for more details and and photos.
URL:https://blackbabybooks.com/event/celebrating-black-childrens-book-week/2026-03-01/
ATTACH;FMTTYPE=image/jpeg:https://blackbabybooks.com/wp-content/uploads/2026/01/Poster_2026_Dr-Lester-1.jpg
ORGANIZER;CN="erica maxwell":MAILTO:emaxwell@aha-alliance.com
END:VEVENT
END:VCALENDAR