BEGIN:VCALENDAR
VERSION:2.0
PRODID:-//Black Baby Books - Black Children&#039;s Book Characters - ECPv6.15.20//NONSGML v1.0//EN
CALSCALE:GREGORIAN
METHOD:PUBLISH
X-WR-CALNAME:Black Baby Books - Black Children&#039;s Book Characters
X-ORIGINAL-URL:https://blackbabybooks.com
X-WR-CALDESC:Events for Black Baby Books - Black Children&#039;s Book Characters
REFRESH-INTERVAL;VALUE=DURATION:PT1H
X-Robots-Tag:noindex
X-PUBLISHED-TTL:PT1H
BEGIN:VTIMEZONE
TZID:America/Chicago
BEGIN:DAYLIGHT
TZOFFSETFROM:-0600
TZOFFSETTO:-0500
TZNAME:CDT
DTSTART:20210314T080000
END:DAYLIGHT
BEGIN:STANDARD
TZOFFSETFROM:-0500
TZOFFSETTO:-0600
TZNAME:CST
DTSTART:20211107T070000
END:STANDARD
BEGIN:DAYLIGHT
TZOFFSETFROM:-0600
TZOFFSETTO:-0500
TZNAME:CDT
DTSTART:20220313T080000
END:DAYLIGHT
BEGIN:STANDARD
TZOFFSETFROM:-0500
TZOFFSETTO:-0600
TZNAME:CST
DTSTART:20221106T070000
END:STANDARD
BEGIN:DAYLIGHT
TZOFFSETFROM:-0600
TZOFFSETTO:-0500
TZNAME:CDT
DTSTART:20230312T080000
END:DAYLIGHT
BEGIN:STANDARD
TZOFFSETFROM:-0500
TZOFFSETTO:-0600
TZNAME:CST
DTSTART:20231105T070000
END:STANDARD
BEGIN:DAYLIGHT
TZOFFSETFROM:-0600
TZOFFSETTO:-0500
TZNAME:CDT
DTSTART:20240310T080000
END:DAYLIGHT
BEGIN:STANDARD
TZOFFSETFROM:-0500
TZOFFSETTO:-0600
TZNAME:CST
DTSTART:20241103T070000
END:STANDARD
END:VTIMEZONE
BEGIN:VEVENT
DTSTART;TZID=America/Chicago:20230226T130000
DTEND;TZID=America/Chicago:20230226T150000
DTSTAMP:20260421T194222
CREATED:20230124T063717Z
LAST-MODIFIED:20230127T160330Z
UID:10002168-1677416400-1677423600@blackbabybooks.com
SUMMARY:Black History Month/Black Children’s Book Week Event
DESCRIPTION:Celebrate Black History Month and Black Children’s Book Week with Black Lives Matter SPI at the African American History Museum! \nThree Black community leaders will read stories and speak to the attendees. Each child will receive a free book featuring Black characters to take home! We will also have a scavenger hunt to encourage children to check out all of the exhibits in the museum to learn more. \nIn addition\, many local organization are involved! Our local library will have a pop-up table to sign families up for a library card; The Kidzeum of Science will also host a table with coding tablets and other science related activities; and the League of Women Voters will have a table to register any families to vote that need to. \nWe are also collecting books from our wish list to give to the children\, and to restock our Little Free Libraries dedicated to Black authors! \nIf you are in the Springfield\, IL area\, please join us! \nPlease follow and like us:
URL:https://blackbabybooks.com/event/black-history-month-black-childrens-book-week-event/
ATTACH;FMTTYPE=image/png:https://blackbabybooks.com/wp-content/uploads/2023/01/png_20230116_233222_0000.png
ORGANIZER;CN="Black Lives Matter SPI":MAILTO:SPIBLM@GMAIL.COM
END:VEVENT
BEGIN:VEVENT
DTSTART;TZID=America/Chicago:20220227T130000
DTEND;TZID=America/Chicago:20220227T143000
DTSTAMP:20260421T194222
CREATED:20220124T045115Z
LAST-MODIFIED:20220124T045115Z
UID:10001100-1645966800-1645972200@blackbabybooks.com
SUMMARY:Black History/Black Children's Book Week Kick Off Event w/ Harriet Tubman
DESCRIPTION:Gather with Black Lives Matter Springfield as we listen to Harriet Tubman\, portrayed by Kathryn Harris\, read some of her favorite books. For children of all ages!\n\nPlease register your in person attendance at the link below. Please be sure to include yourself and any additional guests in your party registration number so that we can ensure we remain within the safety guidelines set by our public health leaders. \nDue to the ongoing pandemic\, we are limiting the number of in person participants in order to follow guidelines and keep everyone safe. We will be streaming this event on FB Live for those who want to join us virtually.\n\nMasks required at all times\n\n*Treat bags\, a book & school supplies will be given out to children in attendance. If you would like to help us by donating a book to provide a child\, please purchase one from our wish list at the link below.\nhttps://www.amazon.com/hz/wishlist/ls/24FIE5GJ5V60N…\nPlease follow and like us:
URL:https://blackbabybooks.com/event/black-history-black-childrens-book-week-kick-off-event-w-harriet-tubman/
CATEGORIES:Children's Book Reading,In-Person,Virtual
ATTACH;FMTTYPE=image/jpeg:https://blackbabybooks.com/wp-content/uploads/2022/01/Black-Childrens-Book-Week-Kick-Off-Event.jpg
ORGANIZER;CN="Black Lives Matter SPI":MAILTO:SPIBLM@GMAIL.COM
END:VEVENT
END:VCALENDAR