BEGIN:VCALENDAR
VERSION:2.0
PRODID:-//Black Baby Books - Black Children&#039;s Book Characters - ECPv6.15.20//NONSGML v1.0//EN
CALSCALE:GREGORIAN
METHOD:PUBLISH
X-ORIGINAL-URL:https://blackbabybooks.com
X-WR-CALDESC:Events for Black Baby Books - Black Children&#039;s Book Characters
REFRESH-INTERVAL;VALUE=DURATION:PT1H
X-Robots-Tag:noindex
X-PUBLISHED-TTL:PT1H
BEGIN:VTIMEZONE
TZID:America/Los_Angeles
BEGIN:DAYLIGHT
TZOFFSETFROM:-0800
TZOFFSETTO:-0700
TZNAME:PDT
DTSTART:20250309T100000
END:DAYLIGHT
BEGIN:STANDARD
TZOFFSETFROM:-0700
TZOFFSETTO:-0800
TZNAME:PST
DTSTART:20251102T090000
END:STANDARD
BEGIN:DAYLIGHT
TZOFFSETFROM:-0800
TZOFFSETTO:-0700
TZNAME:PDT
DTSTART:20260308T100000
END:DAYLIGHT
BEGIN:STANDARD
TZOFFSETFROM:-0700
TZOFFSETTO:-0800
TZNAME:PST
DTSTART:20261101T090000
END:STANDARD
BEGIN:DAYLIGHT
TZOFFSETFROM:-0800
TZOFFSETTO:-0700
TZNAME:PDT
DTSTART:20270314T100000
END:DAYLIGHT
BEGIN:STANDARD
TZOFFSETFROM:-0700
TZOFFSETTO:-0800
TZNAME:PST
DTSTART:20271107T090000
END:STANDARD
END:VTIMEZONE
BEGIN:VEVENT
DTSTART;TZID=America/Los_Angeles:20260228T130000
DTEND;TZID=America/Los_Angeles:20260228T140000
DTSTAMP:20260421T103249
CREATED:20260216T172802Z
LAST-MODIFIED:20260216T172802Z
UID:10002650-1772283600-1772287200@blackbabybooks.com
SUMMARY:Magandang Araw! Good Day! Celebrating Black Children's Book Week with Filipino Flavor
DESCRIPTION:Magandang Araw! Good Day! \nJoin us as we celebrate Black Children’s Book Week with a big serving of Filipino flavor. This special gathering honors stories that reflect culture(s)\, courage\, and community – where young readers can see themselves\, their families\, and their futures in every page. \nCome share in storytelling\, heritage(s)\, and the simple magic of reading together. ✨📚 \nPlease follow and like us:
URL:https://blackbabybooks.com/event/magandang-araw-good-day-celebrating-black-childrens-book-week-with-filipino-flavor/
LOCATION:Online Event
ATTACH;FMTTYPE=image/png:https://blackbabybooks.com/wp-content/uploads/2026/02/TosubmitBCBWDCPevent.png
ORGANIZER;CN="Duma Children's Prints":MAILTO:dumachildrensprints@gmail.com
END:VEVENT
END:VCALENDAR