BEGIN:VCALENDAR
VERSION:2.0
PRODID:-//Black Baby Books - Black Children&#039;s Book Characters - ECPv6.15.20//NONSGML v1.0//EN
CALSCALE:GREGORIAN
METHOD:PUBLISH
X-WR-CALNAME:Black Baby Books - Black Children&#039;s Book Characters
X-ORIGINAL-URL:https://blackbabybooks.com
X-WR-CALDESC:Events for Black Baby Books - Black Children&#039;s Book Characters
REFRESH-INTERVAL;VALUE=DURATION:PT1H
X-Robots-Tag:noindex
X-PUBLISHED-TTL:PT1H
BEGIN:VTIMEZONE
TZID:America/New_York
BEGIN:DAYLIGHT
TZOFFSETFROM:-0500
TZOFFSETTO:-0400
TZNAME:EDT
DTSTART:20210314T070000
END:DAYLIGHT
BEGIN:STANDARD
TZOFFSETFROM:-0400
TZOFFSETTO:-0500
TZNAME:EST
DTSTART:20211107T060000
END:STANDARD
BEGIN:DAYLIGHT
TZOFFSETFROM:-0500
TZOFFSETTO:-0400
TZNAME:EDT
DTSTART:20220313T070000
END:DAYLIGHT
BEGIN:STANDARD
TZOFFSETFROM:-0400
TZOFFSETTO:-0500
TZNAME:EST
DTSTART:20221106T060000
END:STANDARD
BEGIN:DAYLIGHT
TZOFFSETFROM:-0500
TZOFFSETTO:-0400
TZNAME:EDT
DTSTART:20230312T070000
END:DAYLIGHT
BEGIN:STANDARD
TZOFFSETFROM:-0400
TZOFFSETTO:-0500
TZNAME:EST
DTSTART:20231105T060000
END:STANDARD
END:VTIMEZONE
BEGIN:VEVENT
DTSTART;TZID=America/New_York:20220228T173000
DTEND;TZID=America/New_York:20220228T180000
DTSTAMP:20260421T225851
CREATED:20220128T195403Z
LAST-MODIFIED:20220128T195403Z
UID:10001419-1646069400-1646071200@blackbabybooks.com
SUMMARY:Interview with Gloria Angelou
DESCRIPTION:We have the pleasure of interviewing Columbus\, Ohio’s own Gloria Angelou about her “Daddies Too” book series on instagram LIVE. Join us! \nPlease follow and like us:
URL:https://blackbabybooks.com/event/interview-with-gloria-angelou/
LOCATION:Online Event
CATEGORIES:Virtual
ATTACH;FMTTYPE=image/png:https://blackbabybooks.com/wp-content/uploads/2022/01/5A1CBC9A-2B03-443D-B58C-BBA40789784B.png
ORGANIZER;CN="Leah Williams of Mimi&rsquo%3Bs Treats Boutique":MAILTO:mimistreatsboutique@gmail.com
END:VEVENT
END:VCALENDAR