BEGIN:VCALENDAR
VERSION:2.0
PRODID:-//Black Baby Books - Black Children&#039;s Book Characters - ECPv6.15.20//NONSGML v1.0//EN
CALSCALE:GREGORIAN
METHOD:PUBLISH
X-ORIGINAL-URL:https://blackbabybooks.com
X-WR-CALDESC:Events for Black Baby Books - Black Children&#039;s Book Characters
REFRESH-INTERVAL;VALUE=DURATION:PT1H
X-Robots-Tag:noindex
X-PUBLISHED-TTL:PT1H
BEGIN:VTIMEZONE
TZID:America/Los_Angeles
BEGIN:DAYLIGHT
TZOFFSETFROM:-0800
TZOFFSETTO:-0700
TZNAME:PDT
DTSTART:20240310T100000
END:DAYLIGHT
BEGIN:STANDARD
TZOFFSETFROM:-0700
TZOFFSETTO:-0800
TZNAME:PST
DTSTART:20241103T090000
END:STANDARD
BEGIN:DAYLIGHT
TZOFFSETFROM:-0800
TZOFFSETTO:-0700
TZNAME:PDT
DTSTART:20250309T100000
END:DAYLIGHT
BEGIN:STANDARD
TZOFFSETFROM:-0700
TZOFFSETTO:-0800
TZNAME:PST
DTSTART:20251102T090000
END:STANDARD
BEGIN:DAYLIGHT
TZOFFSETFROM:-0800
TZOFFSETTO:-0700
TZNAME:PDT
DTSTART:20260308T100000
END:DAYLIGHT
BEGIN:STANDARD
TZOFFSETFROM:-0700
TZOFFSETTO:-0800
TZNAME:PST
DTSTART:20261101T090000
END:STANDARD
END:VTIMEZONE
BEGIN:VEVENT
DTSTART;TZID=America/Los_Angeles:20250226T110000
DTEND;TZID=America/Los_Angeles:20250226T120000
DTSTAMP:20260421T074611
CREATED:20250216T183219Z
LAST-MODIFIED:20250226T172225Z
UID:10002453-1740567600-1740571200@blackbabybooks.com
SUMMARY:Jr. Scientist Workshop & Read Aloud
DESCRIPTION:Calling all Junior Scientist! Celebrate Black Children’s Book Week and learn how to make your play dough withPhelicia Lang\, author of the popular Tay and Friends series. \nPlease follow and like us:
URL:https://blackbabybooks.com/event/jr-scientist-workshop-read-aloud/
LOCATION:Hercules Library\, 109 Civic Drive\, Hercules\, CA\, 94547\, United States
ATTACH;FMTTYPE=image/png:https://blackbabybooks.com/wp-content/uploads/2025/02/Example-1.png
END:VEVENT
END:VCALENDAR