BEGIN:VCALENDAR
VERSION:2.0
PRODID:-//Black Baby Books - Black Children&#039;s Book Characters - ECPv6.15.20//NONSGML v1.0//EN
CALSCALE:GREGORIAN
METHOD:PUBLISH
X-WR-CALNAME:Black Baby Books - Black Children&#039;s Book Characters
X-ORIGINAL-URL:https://blackbabybooks.com
X-WR-CALDESC:Events for Black Baby Books - Black Children&#039;s Book Characters
REFRESH-INTERVAL;VALUE=DURATION:PT1H
X-Robots-Tag:noindex
X-PUBLISHED-TTL:PT1H
BEGIN:VTIMEZONE
TZID:America/New_York
BEGIN:DAYLIGHT
TZOFFSETFROM:-0500
TZOFFSETTO:-0400
TZNAME:EDT
DTSTART:20220313T070000
END:DAYLIGHT
BEGIN:STANDARD
TZOFFSETFROM:-0400
TZOFFSETTO:-0500
TZNAME:EST
DTSTART:20221106T060000
END:STANDARD
BEGIN:DAYLIGHT
TZOFFSETFROM:-0500
TZOFFSETTO:-0400
TZNAME:EDT
DTSTART:20230312T070000
END:DAYLIGHT
BEGIN:STANDARD
TZOFFSETFROM:-0400
TZOFFSETTO:-0500
TZNAME:EST
DTSTART:20231105T060000
END:STANDARD
BEGIN:DAYLIGHT
TZOFFSETFROM:-0500
TZOFFSETTO:-0400
TZNAME:EDT
DTSTART:20240310T070000
END:DAYLIGHT
BEGIN:STANDARD
TZOFFSETFROM:-0400
TZOFFSETTO:-0500
TZNAME:EST
DTSTART:20241103T060000
END:STANDARD
BEGIN:DAYLIGHT
TZOFFSETFROM:-0500
TZOFFSETTO:-0400
TZNAME:EDT
DTSTART:20250309T070000
END:DAYLIGHT
BEGIN:STANDARD
TZOFFSETFROM:-0400
TZOFFSETTO:-0500
TZNAME:EST
DTSTART:20251102T060000
END:STANDARD
END:VTIMEZONE
BEGIN:VEVENT
DTSTART;TZID=America/New_York:20240229T103000
DTEND;TZID=America/New_York:20240229T113000
DTSTAMP:20260423T230338
CREATED:20240221T044225Z
LAST-MODIFIED:20240221T044225Z
UID:10002370-1709202600-1709206200@blackbabybooks.com
SUMMARY:Storytime at Sharon Hill Library
DESCRIPTION:Join author\, Stacey Woodson for a storytime and celebration in honor of Black Children’s Book Week 2024 at Sharon Hill Library in Sharon Hill\, PA. \nPlease follow and like us:
URL:https://blackbabybooks.com/event/storytime-at-sharon-hill-library/
LOCATION:Sharon Hill Library\, 250 Sharon Ave\, Sharon Hill\, PA\, 19079
ATTACH;FMTTYPE=image/png:https://blackbabybooks.com/wp-content/uploads/2024/02/BCBW-2024.png
ORGANIZER;CN="Stacey Woodson":MAILTO:stacey@staceywoodson.com
END:VEVENT
BEGIN:VEVENT
DTSTART;TZID=America/New_York:20230301T190000
DTEND;TZID=America/New_York:20230301T200000
DTSTAMP:20260423T230338
CREATED:20230127T160424Z
LAST-MODIFIED:20230127T160424Z
UID:10002172-1677697200-1677700800@blackbabybooks.com
SUMMARY:Books and Cooks: A Virtual Book Reading and Kitchen Adventure
DESCRIPTION:In honor of Black Children’s Book Week and National Nutrition Month\, join Stacey Woodson\, Registered Dietitian and Children’s Book Author\, as she reads The Prince of Picky Eating Tries New Foods!  \nThen head to your kitchen to make a nourishing snack featured in the book! The recipe and ingredients will be sent upon completed registration.  \n\nPlease follow and like us:
URL:https://blackbabybooks.com/event/books-and-cooks-a-virtual-book-reading-and-kitchen-adventure/
ATTACH;FMTTYPE=image/png:https://blackbabybooks.com/wp-content/uploads/2023/01/Books-Cooks-BCBW-2023.png
ORGANIZER;CN="Stacey Woodson":MAILTO:stacey@staceywoodson.com
END:VEVENT
END:VCALENDAR