BEGIN:VCALENDAR
VERSION:2.0
PRODID:-//Black Baby Books - Black Children&#039;s Book Characters - ECPv6.15.20//NONSGML v1.0//EN
CALSCALE:GREGORIAN
METHOD:PUBLISH
X-WR-CALNAME:Black Baby Books - Black Children&#039;s Book Characters
X-ORIGINAL-URL:https://blackbabybooks.com
X-WR-CALDESC:Events for Black Baby Books - Black Children&#039;s Book Characters
REFRESH-INTERVAL;VALUE=DURATION:PT1H
X-Robots-Tag:noindex
X-PUBLISHED-TTL:PT1H
BEGIN:VTIMEZONE
TZID:America/Los_Angeles
BEGIN:DAYLIGHT
TZOFFSETFROM:-0800
TZOFFSETTO:-0700
TZNAME:PDT
DTSTART:20240310T100000
END:DAYLIGHT
BEGIN:STANDARD
TZOFFSETFROM:-0700
TZOFFSETTO:-0800
TZNAME:PST
DTSTART:20241103T090000
END:STANDARD
BEGIN:DAYLIGHT
TZOFFSETFROM:-0800
TZOFFSETTO:-0700
TZNAME:PDT
DTSTART:20250309T100000
END:DAYLIGHT
BEGIN:STANDARD
TZOFFSETFROM:-0700
TZOFFSETTO:-0800
TZNAME:PST
DTSTART:20251102T090000
END:STANDARD
BEGIN:DAYLIGHT
TZOFFSETFROM:-0800
TZOFFSETTO:-0700
TZNAME:PDT
DTSTART:20260308T100000
END:DAYLIGHT
BEGIN:STANDARD
TZOFFSETFROM:-0700
TZOFFSETTO:-0800
TZNAME:PST
DTSTART:20261101T090000
END:STANDARD
END:VTIMEZONE
BEGIN:VEVENT
DTSTART;TZID=America/Los_Angeles:20250301T120000
DTEND;TZID=America/Los_Angeles:20250301T150000
DTSTAMP:20260425T002051
CREATED:20241204T160151Z
LAST-MODIFIED:20250219T221830Z
UID:10002393-1740830400-1740841200@blackbabybooks.com
SUMMARY:Black Children's Book Week at Malik Books
DESCRIPTION:Join 15 Black children’s authors as they take over Malik Books in celebration of Black Children’s Book Week in Los Angeles. \nPlease follow and like us:
URL:https://blackbabybooks.com/event/black-childrens-book-week-at-malik-books/
LOCATION:Malik Books\, malikbooks.com Malik Books 6000 Sepulveda Blvd Ste 2470\, Culver City\, C\, 90230\, United States
ATTACH;FMTTYPE=image/jpeg:https://blackbabybooks.com/wp-content/uploads/2024/12/Malik-Books.jpg
ORGANIZER;CN="Malik Books":MAILTO:malik@malikbooks.com
END:VEVENT
END:VCALENDAR