BEGIN:VCALENDAR
VERSION:2.0
PRODID:-//Black Baby Books - Black Children&#039;s Book Characters - ECPv6.15.20//NONSGML v1.0//EN
CALSCALE:GREGORIAN
METHOD:PUBLISH
X-WR-CALNAME:Black Baby Books - Black Children&#039;s Book Characters
X-ORIGINAL-URL:https://blackbabybooks.com
X-WR-CALDESC:Events for Black Baby Books - Black Children&#039;s Book Characters
REFRESH-INTERVAL;VALUE=DURATION:PT1H
X-Robots-Tag:noindex
X-PUBLISHED-TTL:PT1H
BEGIN:VTIMEZONE
TZID:America/New_York
BEGIN:DAYLIGHT
TZOFFSETFROM:-0500
TZOFFSETTO:-0400
TZNAME:EDT
DTSTART:20250309T070000
END:DAYLIGHT
BEGIN:STANDARD
TZOFFSETFROM:-0400
TZOFFSETTO:-0500
TZNAME:EST
DTSTART:20251102T060000
END:STANDARD
BEGIN:DAYLIGHT
TZOFFSETFROM:-0500
TZOFFSETTO:-0400
TZNAME:EDT
DTSTART:20260308T070000
END:DAYLIGHT
BEGIN:STANDARD
TZOFFSETFROM:-0400
TZOFFSETTO:-0500
TZNAME:EST
DTSTART:20261101T060000
END:STANDARD
BEGIN:DAYLIGHT
TZOFFSETFROM:-0500
TZOFFSETTO:-0400
TZNAME:EDT
DTSTART:20270314T070000
END:DAYLIGHT
BEGIN:STANDARD
TZOFFSETFROM:-0400
TZOFFSETTO:-0500
TZNAME:EST
DTSTART:20271107T060000
END:STANDARD
END:VTIMEZONE
BEGIN:VEVENT
DTSTART;TZID=America/New_York:20260221T100000
DTEND;TZID=America/New_York:20260221T150000
DTSTAMP:20260423T031530
CREATED:20260210T162335Z
LAST-MODIFIED:20260210T162335Z
UID:10002635-1771668000-1771686000@blackbabybooks.com
SUMMARY:Children's Community Book Fair
DESCRIPTION:2nd Annual Children’s Community Book Fair \nA vibrant celebration of Black Voices and Bold Stories\, scheduled for Saturday\, February 21st\, 2026\, from 10 AM to 3 PM. \nThis year’s book fair promises to be an enriching experience for all ages\, with activities designed for children from Pre-K through 12th grade. Join us as we delve into diverse children’s literature and explore stories that reflect the various voices and experiences in our world. \nThere will be:  \n\nEngaging Workshops: Take part in sessions led by authors and educators who are passionate about diverse narratives.\nInteractive Reading Sessions: Enjoy captivating readings from a variety of genres.\nCommunity Connections: Meet and network with families\, educators\, and community leaders committed to promoting diverse literature.\n\nWe would be delighted to see you again and encourage you to bring friends and family. Your participation helps foster a love for reading and understanding among young readers. \nSaturday\, February 21st\, 2026 \n10 AM to 3 PM \nWesleyan University- Beckham Hall  \n45 Wyllys Avenue \nMiddletown\, CT 06459  \nThe event is free and open to the public. We kindly ask that you register with this Google Form. Please save the date and join us for a day filled with discovery and inspiration.  \nPlease follow and like us:
URL:https://blackbabybooks.com/event/childrens-community-book-fair/
LOCATION:Wesleyan University\, 45 Wyllys Avenue\, Middletown\, CT\, 06459\, United States
ATTACH;FMTTYPE=image/png:https://blackbabybooks.com/wp-content/uploads/2026/02/Book-Fair-Flyer-final-3-1.png
ORGANIZER;CN="Jewett Center for Community Partnerships":MAILTO:engage@wesleyan.edu
END:VEVENT
END:VCALENDAR